Workbook

Sheet Лист1
B2: Ведомость объемов работ
B4: Фасады | C4: объемы | E4: количество
B5: Подготовка кирпичных стен под отделку (штукатурка, грунтовка) | C5: м2 | D5: =Лист2!H6 -> 474.3
B6: Окраска стен | C6: м2 | D6: =D5+D7 -> 627.6
B7: Отделка деревянными панелями, планкен | C7: м2 | D7: =Лист2!J6 -> 153.3
B8: Элементы декора/кронштейны, деревянный брус 100х100 | C8: п.м. | D8: =Лист2!K6 -> 265.6
B9: Отделка цоколя21,9 | C9: м2 | D9: 50
B10: Металлическая решетка для вентиляции | C10: м2 | D10: =5.4+2.2*2+0.6*2 -> 11
B11: Двери
B12: Дверь с остеклением двупольная | C12: м2 | D12: =Лист2!E6 -> 3.2 | E12: шт | F12: 1
B13: Дверь глухая | C13: м2 | D13: =Лист2!F6 -> 4.2 | E13: шт | F13: 2
B14: Наличники на двери | C14: м2 | D14: =Лист2!G6 -> 0.9
B15: Окна
B16: Оконные блоки | C16: м2 | D16: =Лист2!B6 -> 71.5 | E16: шт | F16: 27
B17: Наличники на окна | C17: м2 | D17: =Лист2!D6 -> 7.7
B18: Ставни деревянные | C18: м2 | D18: =Лист2!C6 -> 39.8
B19: Веранда
B20: Устойство лестниц | D20: 3 | E20: шт | F20: 3
B21: Деревянный каркас, брус 150х100 | C21: п.м. | D21: =2.7*8+3.5*2+1.6*2+4.4*4 -> 49.4
B22: Деревянный каркас, брус 250х100 | C22: п.м. | D22: =17.6+2.7*8+3.3*12+11.6*8+7.6*2 -> 186.8
B23: Покрытие стилобата веранды | C23: м2 | D23: =52+5.7 -> 57.7
B24: Отделка цоколя | C24: м2 | D24: =Лист2!L8 -> 9.7
B25: Ограждение из деревянных брусьев (h = 0,95) | C25: п.м. | D25: =4.1+10.7+4.1 -> 18.9
B26: Кровля
B27: Черепица | C27: м2 | D27: =(19.5*4/2)*2+(24*4.5)*4/2+16 -> 310
B28: "Зеленая кровля" | C28: м2 | D28: =4.5*2+7.6*2+11.6*4.5 -> 76.4
B29: Дорожные покрытия
B30: Устройство отмостки | C30: м2 | D30: 368
B31: ИТОГО
B32: ТРАНСПОРТНЫЕ РАСХОДЫ
B33: ВСЕГО БЕЗ НДС (УСН)

Sheet Лист2
B1: окна остекл | C1: окна ставни | D1: окна наличник | E1: двери остекл | F1: двери глух | G1: двери наличник | H1: стены штукатурка | I1: стены краска | J1: стены дерево | K1: стены рейки пм | L1: цоколь
A2: гл фас | B2: =1.8*4+0.4*4+2.3*2+2.7*2 -> 18.8 | C2: =2.7*2+0.6*4+3.1*2+2.1*4 -> 22.4 | D2: =0.3*4+0.35*2+0.15*4+0.4*2 -> 3.3 | E2: 3.2 | F2: =1.8+2.4 -> 4.2 | G2: =0.3*3 -> 0.9 | H2: =156.2-B2-E2-F2 -> 130 | I2: =H2-J2 -> 80.1 | J2: =12*2+25.9 -> 49.9 | K2: =6.6*9+6+3+2.6*5+3*3+1.2*3 -> 94 | L2: =(4+10.8+1.8)*0.33 -> 5.478
A3: вост фас | B3: =6+9.4+6.4*2 -> 28.2 | C3: =5.2*2+3.5*2 -> 17.4 | D3: 2 | H3: =122-SUM(B3) -> 93.8 | I3: =H3-J3 -> 78.8 | J3: 15 | K3: =6.6*8 -> 52.8 | L3: 5
A4: сев фас | B4: =1.8+3.2*2+3.3*3+3.2*2 -> 24.5 | D4: =0.4*6 -> 2.4 | H4: =152-B4 -> 127.5 | I4: =H4-J4 -> 97.9 | J4: =14.8*2 -> 29.6 | K4: =6.6*10 -> 66 | L4: 5.9
A5: зап фас | H5: 123 | I5: =H5-J5 -> 64.2 | J5: =14.7*4 -> 58.8 | K5: =6.6*8 -> 52.8 | L5: 5.5
B6: =SUM(B2:B5) -> 71.5 | C6: =SUM(C2:C5) -> 39.8 | D6: =SUM(D2:D5) -> 7.7 | E6: =SUM(E2:E5) -> 3.2 | F6: =SUM(F2:F5) -> 4.2 | G6: =SUM(G2:G5) -> 0.9 | H6: =SUM(H2:H5) -> 474.3 | I6: =SUM(I2:I5) -> 321 | ... L6: =SUM(L2:L5) -> 21.878
A8: отмостка | B8: 368 | L8: =(4.1+11.1+4.2)*0.5 -> 9.7
